BEGIN:VCALENDAR
VERSION:2.0
PRODID:-//Bradgate Rotary Events - ECPv6.15.20//NONSGML v1.0//EN
CALSCALE:GREGORIAN
METHOD:PUBLISH
X-ORIGINAL-URL:https://bradgaterotaryevents.co.uk
X-WR-CALDESC:Events for Bradgate Rotary Events
REFRESH-INTERVAL;VALUE=DURATION:PT1H
X-Robots-Tag:noindex
X-PUBLISHED-TTL:PT1H
BEGIN:VTIMEZONE
TZID:Europe/London
BEGIN:DAYLIGHT
TZOFFSETFROM:+0000
TZOFFSETTO:+0100
TZNAME:BST
DTSTART:20230326T010000
END:DAYLIGHT
BEGIN:STANDARD
TZOFFSETFROM:+0100
TZOFFSETTO:+0000
TZNAME:GMT
DTSTART:20231029T010000
END:STANDARD
BEGIN:DAYLIGHT
TZOFFSETFROM:+0000
TZOFFSETTO:+0100
TZNAME:BST
DTSTART:20240331T010000
END:DAYLIGHT
BEGIN:STANDARD
TZOFFSETFROM:+0100
TZOFFSETTO:+0000
TZNAME:GMT
DTSTART:20241027T010000
END:STANDARD
BEGIN:DAYLIGHT
TZOFFSETFROM:+0000
TZOFFSETTO:+0100
TZNAME:BST
DTSTART:20250330T010000
END:DAYLIGHT
BEGIN:STANDARD
TZOFFSETFROM:+0100
TZOFFSETTO:+0000
TZNAME:GMT
DTSTART:20251026T010000
END:STANDARD
BEGIN:DAYLIGHT
TZOFFSETFROM:+0000
TZOFFSETTO:+0100
TZNAME:BST
DTSTART:20260329T010000
END:DAYLIGHT
BEGIN:STANDARD
TZOFFSETFROM:+0100
TZOFFSETTO:+0000
TZNAME:GMT
DTSTART:20261025T010000
END:STANDARD
BEGIN:DAYLIGHT
TZOFFSETFROM:+0000
TZOFFSETTO:+0100
TZNAME:BST
DTSTART:20270328T010000
END:DAYLIGHT
BEGIN:STANDARD
TZOFFSETFROM:+0100
TZOFFSETTO:+0000
TZNAME:GMT
DTSTART:20271031T010000
END:STANDARD
END:VTIMEZONE
BEGIN:VTIMEZONE
TZID:UTC
BEGIN:STANDARD
TZOFFSETFROM:+0000
TZOFFSETTO:+0000
TZNAME:UTC
DTSTART:20180101T000000
END:STANDARD
END:VTIMEZONE
BEGIN:VEVENT
DTSTART;TZID=Europe/London:20251018T080000
DTEND;TZID=Europe/London:20260111T170000
DTSTAMP:20260424T173358
CREATED:20251005T172757Z
LAST-MODIFIED:20260110T152952Z
UID:2160-1760774400-1768150800@bradgaterotaryevents.co.uk
SUMMARY:FYBBO-2026
DESCRIPTION:
URL:https://bradgaterotaryevents.co.uk/event/fybbo-2026
END:VEVENT
BEGIN:VEVENT
DTSTART;TZID=Europe/London:20250816T134500
DTEND;TZID=Europe/London:20250816T163000
DTSTAMP:20260424T173358
CREATED:20250528T050556Z
LAST-MODIFIED:20250724T084728Z
UID:2064-1755351900-1755361800@bradgaterotaryevents.co.uk
SUMMARY:Afternoon Tea with Elvis
DESCRIPTION:NEARLY SOLD OUT \nPlease contact Lesley on 07813623873 to check for Availability \n 
URL:https://bradgaterotaryevents.co.uk/event/tea-with-elvis
LOCATION:Groby Ex Sevicemans Club\, Leicester Road\, Groby\, LE6 0DJ
END:VEVENT
BEGIN:VEVENT
DTSTART;TZID=Europe/London:20250501T100000
DTEND;TZID=Europe/London:20250501T123000
DTSTAMP:20260424T173358
CREATED:20250603T114847Z
LAST-MODIFIED:20250609T122201Z
UID:2096-1746093600-1746102600@bradgaterotaryevents.co.uk
SUMMARY:Walk to the Mammoth
DESCRIPTION:Please enable JavaScript in your browser to complete this form.Name *FirstLastEmail *Ticket *Price: £0.05012345678910Stripe Credit Card *Comment or MessageSubmit
URL:https://bradgaterotaryevents.co.uk/event/walk-to-the-mammoth
LOCATION:le4 4ef\, 1 Whitehorse Lane\, Leicestershire\, -Select-\, LE4 4EF\, United Kingdom
END:VEVENT
BEGIN:VEVENT
DTSTART;TZID=Europe/London:20250112T100000
DTEND;TZID=Europe/London:20250112T130000
DTSTAMP:20260424T173358
CREATED:20241002T144842Z
LAST-MODIFIED:20250111T170301Z
UID:2008-1736676000-1736686800@bradgaterotaryevents.co.uk
SUMMARY:Bits and Bobs Sponsored Walk 2025
DESCRIPTION:ONLINE ENTRIES CLOSED \, Please Come to the event and pay on the day  \n 
URL:https://bradgaterotaryevents.co.uk/event/bits-and-bobs-sponsored-walk-2025
END:VEVENT
BEGIN:VEVENT
DTSTART;TZID=Europe/London:20240914T100000
DTEND;TZID=Europe/London:20240915T150000
DTSTAMP:20260424T173358
CREATED:20240701T120719Z
LAST-MODIFIED:20240704T064128Z
UID:1942-1726308000-1726412400@bradgaterotaryevents.co.uk
SUMMARY:GROBY SCARECROW COMPETITION AND YARD SALE 2024 SUPPORTED BY BRADGATE ROTARY
DESCRIPTION:SCARECROW RULES AND GUIDELINES  \nPlease enable JavaScript in your browser to complete this form.   Please select your entry – tick one option  *Scarecrow only entryYard Sale only entryCombined Scarecrow AND Yard sale entryEntrants Name *FirstLastEmail *AddressAddress Line 1CityState / Province / RegionPostal CodePhone *Name of scarecrow if known on Entry:All proceeds will be donated to Bradgate Rotary Charities.Event Entry *Price: £5.00Stripe Credit Card *Add Entry
URL:https://bradgaterotaryevents.co.uk/event/groby-scarecrow-competition-and-yard-sale-2024-supported-by-bradgate-rotary
END:VEVENT
BEGIN:VEVENT
DTSTART;TZID=Europe/London:20240512T100000
DTEND;TZID=Europe/London:20240512T160000
DTSTAMP:20260424T173358
CREATED:20240416T054457Z
LAST-MODIFIED:20240416T054719Z
UID:1929-1715508000-1715529600@bradgaterotaryevents.co.uk
SUMMARY:Bark in the Park 2024
DESCRIPTION:
URL:https://bradgaterotaryevents.co.uk/event/1929
ATTACH;FMTTYPE=image/jpeg:https://bradgaterotaryevents.co.uk/wp-content/uploads/2024/04/IMG_2183.jpg
END:VEVENT
BEGIN:VEVENT
DTSTART;TZID=UTC:20240229T080000
DTEND;TZID=UTC:20240229T170000
DTSTAMP:20260424T173358
CREATED:20240229T192359Z
LAST-MODIFIED:20240229T193046Z
UID:1907-1709193600-1709226000@bradgaterotaryevents.co.uk
SUMMARY:Unsubscribe from Bradgate Rotary Events Email
DESCRIPTION:Please enable JavaScript in your browser to complete this form.Email *Submit
URL:https://bradgaterotaryevents.co.uk/event/unsubscribe
END:VEVENT
BEGIN:VEVENT
DTSTART;TZID=UTC:20240114T100000
DTEND;TZID=UTC:20240114T130000
DTSTAMP:20260424T173358
CREATED:20231022T072902Z
LAST-MODIFIED:20240113T154325Z
UID:1357-1705226400-1705237200@bradgaterotaryevents.co.uk
SUMMARY:Bradgate Park Bra Walk 2024
DESCRIPTION:Online registration is now closed but you can still register on the day.\nGo to the Bradgate Rotary Club gazebo at the Newton Linford entrance and a Bradgate Rotary team member will take your registration details.\n“Form Closed [id1353]”
URL:https://bradgaterotaryevents.co.uk/event/brawalk2024
END:VEVENT
BEGIN:VEVENT
DTSTART;TZID=UTC:20230917T080000
DTEND;TZID=UTC:20230917T170000
DTSTAMP:20260424T173358
CREATED:20230714T181934Z
LAST-MODIFIED:20230913T045759Z
UID:1315-1694937600-1694970000@bradgaterotaryevents.co.uk
SUMMARY:Groby Yard Sale 2023
DESCRIPTION:
URL:https://bradgaterotaryevents.co.uk/event/groby-yard-sale-2023
LOCATION:Groby\, Fir Tree Lane\, Leicester\, le6 0fh\, United Kingdom
END:VEVENT
BEGIN:VEVENT
DTSTART;TZID=UTC:20230916T080000
DTEND;TZID=UTC:20230917T170000
DTSTAMP:20260424T173358
CREATED:20230629T093241Z
LAST-MODIFIED:20230913T045857Z
UID:1289-1694851200-1694970000@bradgaterotaryevents.co.uk
SUMMARY:Groby Scarecrow 2023
DESCRIPTION:Rules & Guidelines: https://bradgaterotaryevents.co.uk/bradgate-scarecrow-2023-rules \n 
URL:https://bradgaterotaryevents.co.uk/event/scarescrow2023
LOCATION:Stamford Arms\, Stamford Arms\, Groby\, lE6 0DJ\, United Kingdom
END:VEVENT
BEGIN:VEVENT
DTSTART;TZID=UTC:20220924T100000
DTEND;TZID=UTC:20220924T160000
DTSTAMP:20260424T173358
CREATED:20220812T104129Z
LAST-MODIFIED:20220812T104129Z
UID:1240-1664013600-1664035200@bradgaterotaryevents.co.uk
SUMMARY:Reloved
DESCRIPTION:
URL:https://bradgaterotaryevents.co.uk/event/reloved
LOCATION:Groby Village Hall\, Groby Village Hall\, Groby\, Leicestershire\, LE6 0DQ\, United Kingdom
END:VEVENT
BEGIN:VEVENT
DTSTART;VALUE=DATE:20220731
DTEND;VALUE=DATE:20220926
DTSTAMP:20260424T173358
CREATED:20210719T064556Z
LAST-MODIFIED:20230629T093201Z
UID:918-1659225600-1664150399@bradgaterotaryevents.co.uk
SUMMARY:Groby Scarecrow 2022
DESCRIPTION:  \n \n  \n  \n  \n  \n  \n  \n  \n  \n  \n  \n  \n  \n  \n  \n  \n  \n  \n  \n  \n  \n  \n  \n  \n  \n  \n  \n  \nPlease enable JavaScript in your browser to complete this form.Name *FirstLastPhone *Email *AddressAddress Line 1Address Line 2CityState / Province / RegionPostal CodeOrganisation(If applicable)Where your scarecrow will be displayed:All proceeds will be donated to Bradgate Rotary Charities.Enter Scarecrow  \n\n\n\n\nRules & Guidelines: https://bradgaterotaryevents.co.uk/bradgatescarecrow2022 \n 
URL:https://bradgaterotaryevents.co.uk/event/grobyscarecrow2022
LOCATION:Stamford Arms\, Stamford Arms\, Groby\, lE6 0DJ\, United Kingdom
END:VEVENT
BEGIN:VEVENT
DTSTART;VALUE=DATE:20220401
DTEND;VALUE=DATE:20220801
DTSTAMP:20260424T173358
CREATED:20220212T075917Z
LAST-MODIFIED:20220902T185129Z
UID:1036-1648771200-1659311999@bradgaterotaryevents.co.uk
SUMMARY:Rotary 1070 Virtual Photographic Competition
DESCRIPTION:Hosted by Bradgate Rotary Club \nCongratulations to Our winners \, please see the winning photos below \nLANDSCAPE……Chip Somers (Member of Kettering Huxloe) \nPEOPLE ………….Chip Somers (Member of Kettering Huxloe) \nWILDLIFE……….Sangita Tebbatt ( Friend of Oadby Rotary ) \nThe 2 winners each receive vouchers of £100 and £50 respectively. \nAn Independent Judge voted for the winning photographs after much deliberation. \nOn behalf of Bradgate Rotary and Rotary District 1070 we would like to thank all the participants for entering the competition. The photographs were all of a very high standard. \n \n  \n \n  \n \n  \n  \n  \n 
URL:https://bradgaterotaryevents.co.uk/event/bradgatephoto2022
CATEGORIES:Virtual Event
END:VEVENT
BEGIN:VEVENT
DTSTART;VALUE=DATE:20210527
DTEND;VALUE=DATE:20210816
DTSTAMP:20260424T173358
CREATED:20210527T105254Z
LAST-MODIFIED:20210527T110905Z
UID:898-1622073600-1629071999@bradgaterotaryevents.co.uk
SUMMARY:Garden in Bloom 2021
DESCRIPTION:Please enable JavaScript in your browser to complete this form.Name *FirstLastEmail *Address *Address Line 1Address Line 2CityState / Province / RegionPostal CodePicture for Consideration\n	\n		\n			\n		\n\n		\n							Drag & Drop Files\, 				Choose Files to Upload\n					\n\n					You can upload up to 3 files.\n			\n\n\n\nUpload a image of your lightsSubmit  \n  \nhttps://bradgaterotaryevents.co.uk/gardens-in-bloom-photo-competition-2021-rules(opens in a new tab)
URL:https://bradgaterotaryevents.co.uk/event/garden-in-bloom-2021
ATTACH;FMTTYPE=image/png:https://bradgaterotaryevents.co.uk/wp-content/uploads/2021/05/GardensinBloom2021.png
END:VEVENT
BEGIN:VEVENT
DTSTART;TZID=UTC:20210106T105400
DTEND;TZID=UTC:20210106T105400
DTSTAMP:20260424T173358
CREATED:20210106T103720Z
LAST-MODIFIED:20210308T111818Z
UID:520-1609930440-1609930440@bradgaterotaryevents.co.uk
SUMMARY:TEst dog show
DESCRIPTION:  \n  \n  \n  \n  \n  \n  \n  \n  \n  \n  \n  \n  \n  \n  \n  \n  \n  \n  \n  \n  \n  \n  \nPlease enable JavaScript in your browser to complete this form.Name *FirstLastEmail *Phone *Select your dogegory and Upload a Single File or Short Video1.Best Party Trick (video max 30 secs)\n	\n		\n			\n		\n\n		\n							Drag & Drop Files\, 				Choose Files to Upload\n					\n\n			\n\n\n\nplease Drag or Browse to your File \, Please note the max size in 64MB 2.Most Outstanding Ears (photo)\n	\n		\n			\n		\n\n		\n							Drag & Drop Files\, 				Choose Files to Upload\n					\n\n			\n\n\n\nplease Drag or Browse to your File \, Please note the max size in 64MB 3.Pure Breed (photo)\n	\n		\n			\n		\n\n		\n							Drag & Drop Files\, 				Choose Files to Upload\n					\n\n			\n\n\n\nplease Drag or Browse to your File \, Please note the max size in 64MB 4.Prettiest Female Dog (photo)\n	\n		\n			\n		\n\n		\n							Drag & Drop Files\, 				Choose Files to Upload\n					\n\n			\n\n\n\nplease Drag or Browse to your File \, Please note the max size in 64MB 5.Handsomest Male Dog (photo)\n	\n		\n			\n		\n\n		\n							Drag & Drop Files\, 				Choose Files to Upload\n					\n\n			\n\n\n\nplease Drag or Browse to your File \, Please note the max size in 64MB 6. Scruffiest Mutt (photo)\n	\n		\n			\n		\n\n		\n							Drag & Drop Files\, 				Choose Files to Upload\n					\n\n			\n\n\n\nplease Drag or Browse to your File \, Please note the max size in 64MB 7. One Dog + One Owner (photo)\n	\n		\n			\n		\n\n		\n							Drag & Drop Files\, 				Choose Files to Upload\n					\n\n			\n\n\n\nplease Drag or Browse to your File \, Please note the max size in 64MB 8. Dog that most looks like owner (photo)\n	\n		\n			\n		\n\n		\n							Drag & Drop Files\, 				Choose Files to Upload\n					\n\n			\n\n\n\nplease Drag or Browse to your File \, Please note the max size in 64MB 9. Best Puppy - up to 9 months (photo)\n	\n		\n			\n		\n\n		\n							Drag & Drop Files\, 				Choose Files to Upload\n					\n\n			\n\n\n\nplease Drag or Browse to your File \, Please note the max size in 64MB 10. Senior Dog over 7 (photo)\n	\n		\n			\n		\n\n		\n							Drag & Drop Files\, 				Choose Files to Upload\n					\n\n			\n\n\n\nplease Drag or Browse to your File \, Please note the max size in 64MB 11. Best Mixed Breed (photo)\n	\n		\n			\n		\n\n		\n							Drag & Drop Files\, 				Choose Files to Upload\n					\n\n			\n\n\n\nplease Drag or Browse to your File \, Please note the max size in 64MB 12. Best Dressed Dog - can include Xmas clothes (photo)\n	\n		\n			\n		\n\n		\n							Drag & Drop Files\, 				Choose Files to Upload\n					\n\n			\n\n\n\nplease Drag or Browse to your File \, Please note the max size in 64MB 13. Best Child Handler and Dog (video max 30 secs)\n	\n		\n			\n		\n\n		\n							Drag & Drop Files\, 				Choose Files to Upload\n					\n\n			\n\n\n\nplease Drag or Browse to your File \, Please note the max size in 64MB 14. Best Biscuit Catcher (video max 20 secs)\n	\n		\n			\n		\n\n		\n							Drag & Drop Files\, 				Choose Files to Upload\n					\n\n			\n\n\n\nplease Drag or Browse to your File \, Please note the max size in 64MB 15. Best Obedience Moves (video max 30 secs)\n	\n		\n			\n		\n\n		\n							Drag & Drop Files\, 				Choose Files to Upload\n					\n\n			\n\n\n\nplease Drag or Browse to your File \, Please note the max size in 64MB 16. Waggiest Tail (video max 20 secs )\n	\n		\n			\n		\n\n		\n							Drag & Drop Files\, 				Choose Files to Upload\n					\n\n			\n\n\n\nplease Drag or Browse to your File \, Please note the max size in 64MB 17. Assistance Dog (photo)\n	\n		\n			\n		\n\n		\n							Drag & Drop Files\, 				Choose Files to Upload\n					\n\n			\n\n\n\nplease Drag or Browse to your File \, Please note the max size in 64MB 18. Dog that you think the judge would most like to take home (photo)\n	\n		\n			\n		\n\n		\n							Drag & Drop Files\, 				Choose Files to Upload\n					\n\n			\n\n\n\nplease Drag or Browse to your File \, Please note the max size in 64MB 19. Best Family Group - People and Dog (photo)\n	\n		\n			\n		\n\n		\n							Drag & Drop Files\, 				Choose Files to Upload\n					\n\n			\n\n\n\nplease Drag or Browse to your File \, Please note the max size in 64MB 20. Best in Show from any of above categories whether photo or video\, judges choice no entry for this\n	\n		\n			\n		\n\n		\n							Drag & Drop Files\, 				Choose Files to Upload\n					\n\n			\n\n\n\nplease Drag or Browse to your File \, Please note the max size in 64MB Please Ensure you purchase the correct number of tickets in the payment sectionEnter Category - You must Click This button to submit your Entries
URL:https://bradgaterotaryevents.co.uk/event/test-dog-show
END:VEVENT
BEGIN:VEVENT
DTSTART;TZID=UTC:20210106T104824
DTEND;TZID=UTC:20210106T104824
DTSTAMP:20260424T173358
CREATED:20201216T121044Z
LAST-MODIFIED:20210106T104824Z
UID:488-1609930104-1609930104@bradgaterotaryevents.co.uk
SUMMARY:BRADGATE ROTARY VALENTINE SCARECROW FESTIVAL 2021-POSTPONED
DESCRIPTION:D\n  \n  \n  \n  \n  \n  \n  \n  \nPlease Click here for Rules and Conditions \nPlease enable JavaScript in your browser to complete this form.Name *FirstLastPhone *Email *AddressAddress Line 1Address Line 2CityState / Province / RegionPostal CodeOrganisation(If applicable)Where your scarecrow will be displayed:All proceeds will be donated to Bradgate Rotary Charities.Enter Scarecrow   \nPlease Click here for Rules and Conditions
URL:https://bradgaterotaryevents.co.uk/event/bradgate-rotary-valentine-scarecrow-festival-2021
END:VEVENT
BEGIN:VEVENT
DTSTART;TZID=UTC:20201201T080000
DTEND;TZID=UTC:20210307T170000
DTSTAMP:20260424T173358
CREATED:20201116T141738Z
LAST-MODIFIED:20210308T092033Z
UID:396-1606809600-1615136400@bradgaterotaryevents.co.uk
SUMMARY:The Great British POOCH off  - Virtual Dog Show
DESCRIPTION:With Special Thanks to Local Groby Businesses for their kind prize donations: \nWaggy Walks by Julie\, Dermvet\, Cooks Farm Shop\, K9 Education Dog Training  & Animal Magic . \n  \n  \n  \n  \nPlease See Terms and Conditions 
URL:https://bradgaterotaryevents.co.uk/event/the-great-british-pooch-off-virtual-dog-show
CATEGORIES:Virtual Event
ATTACH;FMTTYPE=image/png:https://bradgaterotaryevents.co.uk/wp-content/uploads/2020/11/dogshow_2020-1.png
END:VEVENT
BEGIN:VEVENT
DTSTART;VALUE=DATE:20201006
DTEND;VALUE=DATE:20201209
DTSTAMP:20260424T173358
CREATED:20201006T090035Z
LAST-MODIFIED:20201210T214428Z
UID:341-1601942400-1607471999@bradgaterotaryevents.co.uk
SUMMARY:Bradgate Park Calendar 2021
DESCRIPTION:Bradgate Park Calendar 2021 \n\n\n\n	\n		\n			\n			\n		\n\n		\n\n\n\n 
URL:https://bradgaterotaryevents.co.uk/event/bradgate-park-calendar-2021
END:VEVENT
BEGIN:VEVENT
DTSTART;TZID=UTC:20200629T190000
DTEND;TZID=UTC:20200629T210000
DTSTAMP:20260424T173358
CREATED:20200622T104234Z
LAST-MODIFIED:20200626T083940Z
UID:321-1593457200-1593464400@bradgaterotaryevents.co.uk
SUMMARY:Bradgate Rotary Events - Quiz and Bingo Night
DESCRIPTION:Bradgate Rotary Club are proud to support LOROS with an interactive Quiz and Bingo Night  \n  \nplease enter your Name and Details \, we will provide the connections details for the event in the reply email. \nPlease enable JavaScript in your browser to complete this form.Name *FirstLastDOB *Address to Post Medal and CertificateEmail *WebsiteSubmit
URL:https://bradgaterotaryevents.co.uk/event/bradgate-rotary-events-quiz-and-bingo-night
CATEGORIES:Quiz and Bingo
END:VEVENT
BEGIN:VEVENT
DTSTART;TZID=UTC:20200424T080000
DTEND;TZID=UTC:20200504T170000
DTSTAMP:20260424T173358
CREATED:20200420T062947Z
LAST-MODIFIED:20200420T071012Z
UID:306-1587715200-1588611600@bradgaterotaryevents.co.uk
SUMMARY:Bradgate Rotary Virtual Event
DESCRIPTION:Run\, walk \, Skip \, hop or Jump … The challenge is to do 26.2 or 2.6 of any exercise you want. \nWe would like to see photos of you enjoying your activity and Fancy dress though not compulsory is encouraged. \n  \nSome Examples  \n26 laps of your garden  \n2.6 kg weight lift \n26 pressups  \n2.6 km walk  \n26 km split into 3 to 4 hour sections \n26 Minutes silence (children) \n  \nPlease enable JavaScript in your browser to complete this form.Name *FirstLastDOB *Address to Post Medal and CertificateEmail *EmailSubmit
URL:https://bradgaterotaryevents.co.uk/event/bradgate-rotary-virtual-event
END:VEVENT
BEGIN:VEVENT
DTSTART;TZID=UTC:20190915T103000
DTEND;TZID=UTC:20190915T160000
DTSTAMP:20260424T173358
CREATED:20190517T102904Z
LAST-MODIFIED:20190910T120058Z
UID:72-1568543400-1568563200@bradgaterotaryevents.co.uk
SUMMARY:The Family Obstacular (BIG) Day Out
DESCRIPTION:OBSTACULAR\n\nA Family Friendly Obstacle Course Race \n\n\n\n	\n		\n			\n			\n		\n\n		\n		\n			\n			\n		\n\n		\n		\n			\n			\n		\n\n		\n		\n			\n			\n		\n\n		\n		\n			\n			\n		\n\n		\n		\n			\n			\n		\n\n		\n		\n			\n			\n		\n\n		\n		\n			\n			\n		\n\n		\n		\n			\n			\n		\n\n		\n		\n			\n			\n		\n\n		\n		\n			\n			\n		\n\n		\n		\n			\n			\n		\n\n		\n		\n			\n			\n		\n\n		\n		\n			\n			\n		\n\n		\n		\n			\n			\n		\n\n		\n		\n			\n			\n		\n\n		\n		\n			\n			\n		\n\n		\n		\n			\n			\n		\n\n		\n\n\n\nRUNNING\,  \n CLAMBERING\, CRAWLING\, SLIDING\, \nDODGING The Supersoaker Squad  \n(Or sign up to be a supersoaker sniper) \nIndividual and family Challenges\, \nTyre-Dragging\, hula hoop racing\, Bale stacking \nFunfair  \nStalls & Games \nBouncy castles \nMusic\, food\, entertainment \nFun for all the Family \nLots of parking \nWhy not come along and find out for yourself – \nWhat is an obstacular\n \nIn the\nHeart of Charnwood forest \n  \nSee below for Ticket Details \n Ticket Details \nPlease enable JavaScript in your browser to complete this form.Name *FirstLastAge at 15th September 2019 *Optional: Additional Family Members e.g.   Name: David Wallace -   Age: 12Email *In Case of Emergency Name *Please enter an alternative contact \, name \, relation and contact details \nIn Case of Emergency Telephone Number *PhoneSubmit
URL:https://bradgaterotaryevents.co.uk/event/the-family-obstacular-big-day-out
LOCATION:The Family Obstacular (BIG) Day Out\, Leicester\, Leices\, LE67 9QB\, United Kingdom
END:VEVENT
BEGIN:VEVENT
DTSTART;VALUE=DATE:20190601
DTEND;VALUE=DATE:20190602
DTSTAMP:20260424T173358
CREATED:20190405T092853Z
LAST-MODIFIED:20190405T095350Z
UID:65-1559347200-1559433599@bradgaterotaryevents.co.uk
SUMMARY:Hercules Tasks
DESCRIPTION:12 Task of Hercules – fancy dress is a must  \nFamily of 4+ each member must do 2 of the events and collect a total family of 12 coloured wrist bands  \n  \n  \nPlease enable JavaScript in your browser to complete this form.Name *FirstLastAge at 15th September 2019 *Optional: Additional Family Members e.g.   Name: David Wallace -   Age: 12Email *In Case of Emergency Name *Please enter an alternative contact \, name \, relation and contact details \nIn Case of Emergency Telephone Number *CommentSubmit
URL:https://bradgaterotaryevents.co.uk/event/hercules-tasks
ORGANIZER;CN="LOROS":MAILTO:kborley@ntlworld.com
END:VEVENT
END:VCALENDAR